BEGIN:VCALENDAR
VERSION:2.0
PRODID:-//TriMed Inc. - ECPv5.10.0//NONSGML v1.0//EN
CALSCALE:GREGORIAN
METHOD:PUBLISH
X-WR-CALNAME:TriMed Inc.
X-ORIGINAL-URL:https://trimed.ogtimer.com
X-WR-CALDESC:Events for TriMed Inc.
BEGIN:VTIMEZONE
TZID:UTC
BEGIN:STANDARD
TZOFFSETFROM:+0000
TZOFFSETTO:+0000
TZNAME:UTC
DTSTART:20250101T000000
END:STANDARD
END:VTIMEZONE
BEGIN:VEVENT
DTSTART;VALUE=DATE:20250127
DTEND;VALUE=DATE:20250129
DTSTAMP:20260425T105941
CREATED:20210527T215414Z
LAST-MODIFIED:20240615T232733Z
UID:16168-1737936000-1738108799@trimed.ogtimer.com
SUMMARY:Lower Extremity Seminar 2023
DESCRIPTION:Course Objectives:\nThrough didactic sessions and hands-on labs\, thought leaders in lower extremity surgery will cover new concepts and innovative approaches to: ankle fractures\, syndesmotic injuries\, triple arthrodesis\, posterior tibial tendon dysfunction\, Jones fractures\, and calcaneal fractures. Direct access to faculty through an interactive\, case-based forum offers a unique educational opportunity. \nFor complete information or to register\, please contact your local TriMed representative or submit the form below. For questions please call Jaimie Wai Parker at (800) 633-7221 ext 147.
URL:https://trimed.ogtimer.com/event/lower-extremity-seminar-2023/
LOCATION:The Ritz Carlton – Half Moon Bay\, 1 Miramontes Point Rd\, Half Moon Bay\, CA\, 94019\, United States
CATEGORIES:Seminars
ATTACH;FMTTYPE=image/jpeg:https://trimed.ogtimer.com/wp-content/uploads/2021/05/HalfMoonBay_CA.jpg
END:VEVENT
END:VCALENDAR