BEGIN:VCALENDAR
VERSION:2.0
PRODID:-//TriMed Inc. - ECPv5.10.0//NONSGML v1.0//EN
CALSCALE:GREGORIAN
METHOD:PUBLISH
X-WR-CALNAME:TriMed Inc.
X-ORIGINAL-URL:https://trimed.ogtimer.com
X-WR-CALDESC:Events for TriMed Inc.
BEGIN:VTIMEZONE
TZID:America/New_York
BEGIN:DAYLIGHT
TZOFFSETFROM:-0500
TZOFFSETTO:-0400
TZNAME:EDT
DTSTART:20200308T070000
END:DAYLIGHT
BEGIN:STANDARD
TZOFFSETFROM:-0400
TZOFFSETTO:-0500
TZNAME:EST
DTSTART:20201101T060000
END:STANDARD
END:VTIMEZONE
BEGIN:VEVENT
DTSTART;TZID=America/New_York:20200427T160000
DTEND;TZID=America/New_York:20200427T180000
DTSTAMP:20260421T230812
CREATED:20200421T090253Z
LAST-MODIFIED:20210210T005940Z
UID:14505-1588003200-1588010400@trimed.ogtimer.com
SUMMARY:It's Five o'clock Somewhere
DESCRIPTION:Candid Conversations About Your First Job with Dr. Derek BernsteinIn an effort to continue to provide education and resources for our physicians\, we would like to cordially invite you to join us for this upcoming webinar hosted by Dr. Derek Bernstein. He is offering honest unsolicited advice about the do’s and don’ts of your first year in practice all over a cocktail! \nDr. Bernstein is a fellowship trained hand physician in private practice at Novant Health in Winston-Salem\, NC \nPlease enable JavaScript in your browser to complete this form.Name *FirstLastEmail *Residency Level *4th5thFellowResidency Program *SpecialtySelectUpper ExtremityLower ExtremityHandPlasticsTraumaSports MedicineOtherEmailSubmit
URL:https://trimed.ogtimer.com/event/its-five-oclock-somewhere/
LOCATION:Webinar
CATEGORIES:Webinars
ATTACH;FMTTYPE=image/jpeg:https://trimed.ogtimer.com/wp-content/uploads/2020/04/TriMed-Webinar-1.jpg
END:VEVENT
END:VCALENDAR