BEGIN:VCALENDAR
VERSION:2.0
PRODID:-//TriMed Inc. - ECPv5.10.0//NONSGML v1.0//EN
CALSCALE:GREGORIAN
METHOD:PUBLISH
X-WR-CALNAME:TriMed Inc.
X-ORIGINAL-URL:https://trimed.ogtimer.com
X-WR-CALDESC:Events for TriMed Inc.
BEGIN:VTIMEZONE
TZID:America/Los_Angeles
BEGIN:DAYLIGHT
TZOFFSETFROM:-0800
TZOFFSETTO:-0700
TZNAME:PDT
DTSTART:20210314T100000
END:DAYLIGHT
BEGIN:STANDARD
TZOFFSETFROM:-0700
TZOFFSETTO:-0800
TZNAME:PST
DTSTART:20211107T090000
END:STANDARD
END:VTIMEZONE
BEGIN:VEVENT
DTSTART;VALUE=DATE:20210804
DTEND;VALUE=DATE:20210805
DTSTAMP:20260420T010452
CREATED:20210727T203126Z
LAST-MODIFIED:20210727T203712Z
UID:16292-1628035200-1628121599@trimed.ogtimer.com
SUMMARY:Charlotte Cadaver Lab
DESCRIPTION:
URL:https://trimed.ogtimer.com/event/charlotte-cadaver-lab/
LOCATION:Charlotte\, NC
CATEGORIES:Workshops
ATTACH;FMTTYPE=image/jpeg:https://trimed.ogtimer.com/wp-content/uploads/2021/07/Charlotte_NC-Banner_W.jpg
END:VEVENT
END:VCALENDAR