BEGIN:VCALENDAR
VERSION:2.0
PRODID:-//TriMed Inc. - ECPv5.10.0//NONSGML v1.0//EN
CALSCALE:GREGORIAN
METHOD:PUBLISH
X-WR-CALNAME:TriMed Inc.
X-ORIGINAL-URL:https://trimed.ogtimer.com
X-WR-CALDESC:Events for TriMed Inc.
BEGIN:VTIMEZONE
TZID:America/Los_Angeles
BEGIN:DAYLIGHT
TZOFFSETFROM:-0800
TZOFFSETTO:-0700
TZNAME:PDT
DTSTART:20200308T100000
END:DAYLIGHT
BEGIN:STANDARD
TZOFFSETFROM:-0700
TZOFFSETTO:-0800
TZNAME:PST
DTSTART:20201101T090000
END:STANDARD
END:VTIMEZONE
BEGIN:VEVENT
DTSTART;VALUE=DATE:20200715
DTEND;VALUE=DATE:20200719
DTSTAMP:20260422T021647
CREATED:20200425T024424Z
LAST-MODIFIED:20210210T012404Z
UID:14543-1594771200-1595116799@trimed.ogtimer.com
SUMMARY:Carpe Diem Hand Club Annual Meeting
DESCRIPTION:
URL:https://trimed.ogtimer.com/event/carpe-diem-hand-club-annual-meeting/
LOCATION:The Broadmoore\, Colorado Springs\, CO
CATEGORIES:Trade Shows
ATTACH;FMTTYPE=image/jpeg:https://trimed.ogtimer.com/wp-content/uploads/2020/04/TriMed-CDHC-Annual-Meeting-Banner-1.jpg
END:VEVENT
END:VCALENDAR