BEGIN:VCALENDAR
VERSION:2.0
PRODID:-//TriMed Inc. - ECPv5.10.0//NONSGML v1.0//EN
CALSCALE:GREGORIAN
METHOD:PUBLISH
X-WR-CALNAME:TriMed Inc.
X-ORIGINAL-URL:https://trimed.ogtimer.com
X-WR-CALDESC:Events for TriMed Inc.
BEGIN:VTIMEZONE
TZID:UTC
BEGIN:STANDARD
TZOFFSETFROM:+0000
TZOFFSETTO:+0000
TZNAME:UTC
DTSTART:20200101T000000
END:STANDARD
END:VTIMEZONE
BEGIN:VEVENT
DTSTART;VALUE=DATE:20201001
DTEND;VALUE=DATE:20201004
DTSTAMP:20260422T051237
CREATED:20200425T025129Z
LAST-MODIFIED:20210210T011404Z
UID:14549-1601510400-1601769599@trimed.ogtimer.com
SUMMARY:ASSH Annual Meeting 2020
DESCRIPTION:American Society for Surgery of the Hand Annual Meeting 2020 \nBooth #407 \n 
URL:https://trimed.ogtimer.com/event/assh-annual-meeting-2020/
LOCATION:Henry B. Gonzalez Convention Center\, San Antonio\, TX
CATEGORIES:Trade Shows
ATTACH;FMTTYPE=image/jpeg:https://trimed.ogtimer.com/wp-content/uploads/2020/04/TriMed-2020-ASSH-Meeting-Banner.jpg
END:VEVENT
END:VCALENDAR