BEGIN:VCALENDAR
VERSION:2.0
PRODID:-//TriMed Inc. - ECPv5.10.0//NONSGML v1.0//EN
CALSCALE:GREGORIAN
METHOD:PUBLISH
X-WR-CALNAME:TriMed Inc.
X-ORIGINAL-URL:https://trimed.ogtimer.com
X-WR-CALDESC:Events for TriMed Inc.
BEGIN:VTIMEZONE
TZID:America/Los_Angeles
BEGIN:DAYLIGHT
TZOFFSETFROM:-0800
TZOFFSETTO:-0700
TZNAME:PDT
DTSTART:20200308T100000
END:DAYLIGHT
BEGIN:STANDARD
TZOFFSETFROM:-0700
TZOFFSETTO:-0800
TZNAME:PST
DTSTART:20201101T090000
END:STANDARD
END:VTIMEZONE
BEGIN:VEVENT
DTSTART;VALUE=DATE:20200909
DTEND;VALUE=DATE:20200913
DTSTAMP:20260422T021100
CREATED:20200425T024817Z
LAST-MODIFIED:20210210T011533Z
UID:14546-1599609600-1599955199@trimed.ogtimer.com
SUMMARY:AOFAS Annual Meeting 2020
DESCRIPTION:American Orthopaedic Foot and Ankle Society Annual Meeting 2020 \nBooth # 756
URL:https://trimed.ogtimer.com/event/aofas-annual-meeting-2020/
LOCATION:Henry B. Gonzalez Convention Center\, San Antonio\, TX
CATEGORIES:Trade Shows
ATTACH;FMTTYPE=image/jpeg:https://trimed.ogtimer.com/wp-content/uploads/2020/04/TriMed-2020-ASSH-Meeting-Banner.jpg
END:VEVENT
END:VCALENDAR