BEGIN:VCALENDAR
VERSION:2.0
PRODID:-//TriMed Inc. - ECPv5.10.0//NONSGML v1.0//EN
CALSCALE:GREGORIAN
METHOD:PUBLISH
X-WR-CALNAME:TriMed Inc.
X-ORIGINAL-URL:https://trimed.ogtimer.com
X-WR-CALDESC:Events for TriMed Inc.
BEGIN:VTIMEZONE
TZID:America/Los_Angeles
BEGIN:DAYLIGHT
TZOFFSETFROM:-0800
TZOFFSETTO:-0700
TZNAME:PDT
DTSTART:20210314T100000
END:DAYLIGHT
BEGIN:STANDARD
TZOFFSETFROM:-0700
TZOFFSETTO:-0800
TZNAME:PST
DTSTART:20211107T090000
END:STANDARD
END:VTIMEZONE
BEGIN:VEVENT
DTSTART;VALUE=DATE:20210518
DTEND;VALUE=DATE:20210521
DTSTAMP:20260422T070123
CREATED:20210423T222021Z
LAST-MODIFIED:20210727T175822Z
UID:16063-1621296000-1621555199@trimed.ogtimer.com
SUMMARY:American College of Foot and Ankle Surgeons (ACFAS) Annual Meeting
DESCRIPTION:Visit us at Booth #716
URL:https://trimed.ogtimer.com/event/american-college-of-foot-and-ankle-surgeons-acfas-annual-meeting/
LOCATION:Las Vegas\, NV
CATEGORIES:Trade Shows
ATTACH;FMTTYPE=image/jpeg:https://trimed.ogtimer.com/wp-content/uploads/2021/04/LasVegas_NV-Banner.jpg
END:VEVENT
END:VCALENDAR