BEGIN:VCALENDAR
VERSION:2.0
PRODID:-//TriMed Inc. - ECPv5.10.0//NONSGML v1.0//EN
CALSCALE:GREGORIAN
METHOD:PUBLISH
X-WR-CALNAME:TriMed Inc.
X-ORIGINAL-URL:https://trimed.ogtimer.com
X-WR-CALDESC:Events for TriMed Inc.
BEGIN:VTIMEZONE
TZID:America/Los_Angeles
BEGIN:DAYLIGHT
TZOFFSETFROM:-0800
TZOFFSETTO:-0700
TZNAME:PDT
DTSTART:20220313T100000
END:DAYLIGHT
BEGIN:STANDARD
TZOFFSETFROM:-0700
TZOFFSETTO:-0800
TZNAME:PST
DTSTART:20221106T090000
END:STANDARD
END:VTIMEZONE
BEGIN:VEVENT
DTSTART;VALUE=DATE:20220224
DTEND;VALUE=DATE:20220228
DTSTAMP:20260423T031302
CREATED:20210526T212600Z
LAST-MODIFIED:20210727T003634Z
UID:16127-1645660800-1646006399@trimed.ogtimer.com
SUMMARY:ACFAS 2022
DESCRIPTION:
URL:https://trimed.ogtimer.com/event/acfas-2022/
LOCATION:Austin\, TX
CATEGORIES:Trade Shows
ATTACH;FMTTYPE=image/jpeg:https://trimed.ogtimer.com/wp-content/uploads/2021/05/Austin_TX_Banner.jpg
END:VEVENT
END:VCALENDAR