BEGIN:VCALENDAR
VERSION:2.0
PRODID:-//TriMed Inc. - ECPv5.10.0//NONSGML v1.0//EN
CALSCALE:GREGORIAN
METHOD:PUBLISH
X-WR-CALNAME:TriMed Inc.
X-ORIGINAL-URL:https://trimed.ogtimer.com
X-WR-CALDESC:Events for TriMed Inc.
BEGIN:VTIMEZONE
TZID:UTC
BEGIN:STANDARD
TZOFFSETFROM:+0000
TZOFFSETTO:+0000
TZNAME:UTC
DTSTART:20200101T000000
END:STANDARD
END:VTIMEZONE
BEGIN:VEVENT
DTSTART;VALUE=DATE:20200219
DTEND;VALUE=DATE:20200223
DTSTAMP:20260421T165856
CREATED:20200116T082208Z
LAST-MODIFIED:20210216T064555Z
UID:14109-1582070400-1582415999@trimed.ogtimer.com
SUMMARY:ACFAS 2020
DESCRIPTION:American College of Foot and Ankle Surgeons \n  \nBooth #406 / 408
URL:https://trimed.ogtimer.com/event/acfas-2020/
LOCATION:San Antonio\, TX
CATEGORIES:Trade Shows
ATTACH;FMTTYPE=image/jpeg:https://trimed.ogtimer.com/wp-content/uploads/2020/01/ACFAS-San-Antonio-1.jpg
END:VEVENT
END:VCALENDAR