BEGIN:VCALENDAR
VERSION:2.0
PRODID:-//TriMed Inc. - ECPv5.10.0//NONSGML v1.0//EN
CALSCALE:GREGORIAN
METHOD:PUBLISH
X-WR-CALNAME:TriMed Inc.
X-ORIGINAL-URL:https://trimed.ogtimer.com
X-WR-CALDESC:Events for TriMed Inc.
BEGIN:VTIMEZONE
TZID:America/Los_Angeles
BEGIN:DAYLIGHT
TZOFFSETFROM:-0800
TZOFFSETTO:-0700
TZNAME:PDT
DTSTART:20230312T100000
END:DAYLIGHT
BEGIN:STANDARD
TZOFFSETFROM:-0700
TZOFFSETTO:-0800
TZNAME:PST
DTSTART:20231105T090000
END:STANDARD
END:VTIMEZONE
BEGIN:VEVENT
DTSTART;VALUE=DATE:20230118
DTEND;VALUE=DATE:20230122
DTSTAMP:20260425T122136
CREATED:20250527T214851Z
LAST-MODIFIED:20240615T232316Z
UID:16164-1674000000-1674345599@trimed.ogtimer.com
SUMMARY:AAHS 2023
DESCRIPTION:
URL:https://trimed.ogtimer.com/event/aahs-2023/
LOCATION:JW Marriott Resort – Miami\, 19999 W Country Club Dr\, Aventura\, FL\, 33180\, United States
CATEGORIES:Trade Shows
ATTACH;FMTTYPE=image/jpeg:https://trimed.ogtimer.com/wp-content/uploads/2021/05/Miami_FL_Banner.jpg
END:VEVENT
END:VCALENDAR